BEGIN:VCALENDAR
VERSION:2.0
PRODID:-//Greater Houston REIA - ECPv6.15.20//NONSGML v1.0//EN
CALSCALE:GREGORIAN
METHOD:PUBLISH
X-WR-CALNAME:Greater Houston REIA
X-ORIGINAL-URL:https://greaterhoustonreia.net
X-WR-CALDESC:Events for Greater Houston REIA
REFRESH-INTERVAL;VALUE=DURATION:PT1H
X-Robots-Tag:noindex
X-PUBLISHED-TTL:PT1H
BEGIN:VTIMEZONE
TZID:America/Chicago
BEGIN:DAYLIGHT
TZOFFSETFROM:-0600
TZOFFSETTO:-0500
TZNAME:CDT
DTSTART:20250309T080000
END:DAYLIGHT
BEGIN:STANDARD
TZOFFSETFROM:-0500
TZOFFSETTO:-0600
TZNAME:CST
DTSTART:20251102T070000
END:STANDARD
BEGIN:DAYLIGHT
TZOFFSETFROM:-0600
TZOFFSETTO:-0500
TZNAME:CDT
DTSTART:20260308T080000
END:DAYLIGHT
BEGIN:STANDARD
TZOFFSETFROM:-0500
TZOFFSETTO:-0600
TZNAME:CST
DTSTART:20261101T070000
END:STANDARD
BEGIN:DAYLIGHT
TZOFFSETFROM:-0600
TZOFFSETTO:-0500
TZNAME:CDT
DTSTART:20270314T080000
END:DAYLIGHT
BEGIN:STANDARD
TZOFFSETFROM:-0500
TZOFFSETTO:-0600
TZNAME:CST
DTSTART:20271107T070000
END:STANDARD
END:VTIMEZONE
BEGIN:VEVENT
DTSTART;TZID=America/Chicago:20261210T183000
DTEND;TZID=America/Chicago:20261210T203000
DTSTAMP:20260424T201742
CREATED:20260403T183506Z
LAST-MODIFIED:20260403T183506Z
UID:10000706-1796927400-1796934600@greaterhoustonreia.net
SUMMARY:Landlord Focus Group
DESCRIPTION:Greater Houston REIA Landlord Focus Group\n\n🏘️ The Mobile Home Investing Market: Hidden Profits in Affordable Housing\n\n\nLocation: 5502 5th St Katy\, TX 77493\n\n\n\nSnacks & Refreshments Provided\n\n\n\n\n🚀 Greater Houston REIA Landlord Focus Group\n\n🏘️ The Mobile Home Investing Market: Hidden Profits in Affordable Housing\n\n\n📅 Thursday\, November 13\, 2025\n🕡 6:30 PM – 8:30 PM\n📍 5502 5th St\, Katy\, TX 77493\n\n\nAffordable housing is one of the biggest opportunities in real estate right now — and mobile home investing is leading the charge. \n\nAs real estate market changes\, smart investors are shifting their focus to a niche that offers strong cash flow\, steady demand\, and less competition. Whether you’re a landlord looking to expand your portfolio\, a flipper searching for the next high-margin opportunity\, or an investor ready to create passive income through seller financing — this focus group is your insider’s guide. \n\n💡 Here’s what you’ll discover:\n\n✅ How investors are creating massive ROI with mobile homes — even in today’s tough market\n✅ The differences between mobile home investing vs. traditional real estate — and how to leverage both\n✅ Where to find motivated sellers and hidden deals most investors overlook\n✅ How to avoid costly mistakes with titles\, park rules\, and move costs\n✅ Real-world strategies for flipping\, renting\, and creating notes (so you can be the bank!) \n\nYou’ll hear real-world insights\, deal stories\, and tactical strategies that you can take action on immediately. \n\nThis is not theory. This is street-smart\, Houston-tested investing at its best. \n\nSo grab your notebook\, your questions\, and your appetite for opportunity — because this month’s Landlord Focus Group is all about unlocking new income streams in one of the most misunderstood (yet profitable) corners of real estate. \n\n🎯 Seats are limited — RSVP now to secure your spot!
URL:https://greaterhoustonreia.net/event/landlord-focus-group-14/
LOCATION:5502 5th St Katy\, TX 77493\, 5502 5th St\, Katy\, Texas\, 77493
ATTACH;FMTTYPE=image/png:https://greaterhoustonreia.net/wp-content/uploads/2025/11/GHLandlordFGMeetupMarch2026.png
END:VEVENT
BEGIN:VEVENT
DTSTART;TZID=America/Chicago:20261212T090000
DTEND;TZID=America/Chicago:20261212T120000
DTSTAMP:20260424T201742
CREATED:20260401T160305Z
LAST-MODIFIED:20260401T160305Z
UID:10000689-1797066000-1797076800@greaterhoustonreia.net
SUMMARY:Greater Houston REIA Monthly Main Meeting
DESCRIPTION:Greater Houston REIA Monthly Main Meeting\n2nd Saturday • 9:00 AM – 12:00 PM\nLocation: Residence Inn Beltway/Clay Rd: 10421 Clay Rd Houston\, TX 77041 \nWhere Houston Investors Learn\, Connect & Grow—Together\nEvery month\, hundreds of local investors\, entrepreneurs\, and deal-makers gather at the Greater Houston REIA Monthly Main Meeting because they know this is where momentum happens. It’s where new investors gain clarity\, active investors gain an edge\, and experienced investors stay sharp\, relevant\, and ahead of the market. Whether you’re searching for your first deal\, scaling a rental portfolio\, flipping consistently\, raising private money\, or providing services to the investor community\, this room has something powerful for you. \nThis meeting is not a passive seminar. It’s a high-energy\, interactive environment designed to help you take the next step in your investing journey. You’ll get real-world strategies\, local market insights\, deal analysis\, creative approaches to funding\, and the kind of practical education that makes you a more confident and capable investor. Our speakers\, panelists\, and community experts bring you what’s working right now—not outdated theory or recycled advice. \nBut the real heartbeat of the meeting is the people you’ll connect with. You’ll meet investors who collaborate\, share resources\, partner on deals\, lend money\, buy properties\, sell opportunities\, support each other\, and genuinely want to see you succeed. Many attendees have found their business partners\, lenders\, accountability partners\, and lifelong financial friends simply by showing up consistently. \nExpect a mix of powerful education\, structured networking\, deal-flow conversations\, vendor connections\, and the kind of community support that makes big goals feel achievable. You’ll leave with fresh ideas\, new contacts\, actionable steps\, and a clearer path toward your next investment move. \nIf you’re serious about building wealth\, creating options\, and surrounding yourself with the right people\, this is the meeting you don’t miss. Show up ready to learn\, ready to contribute\, and ready to grow—because the opportunities created in this room can change everything.
URL:https://greaterhoustonreia.net/event/greater-houston-reia-monthly-main-meeting-13/
LOCATION:Residence Inn\, 10421 Clay Rd\, Houston\, TX\, 77041\, United States
ATTACH;FMTTYPE=image/png:https://greaterhoustonreia.net/wp-content/uploads/2025/11/MMMeetupMarch2026.png
END:VEVENT
BEGIN:VEVENT
DTSTART;TZID=America/Chicago:20261214T180000
DTEND;TZID=America/Chicago:20261214T190000
DTSTAMP:20260424T201742
CREATED:20260403T205825Z
LAST-MODIFIED:20260403T205825Z
UID:10000730-1797271200-1797274800@greaterhoustonreia.net
SUMMARY:REI Blackbook Support & Training
DESCRIPTION:  \nREI Blackbook Support Group Via Zoom \nMaximize Your Real Estate Profits. Minimize Your Frustrations! \nWe believe in partnering with the best. REI Blackbook will help stressed-out\, busy real estate investors close more deals and build better businesses without sacrificing their souls. \nOur goal is for our members to use the REI Blackbook platform to its fullest potential. This meeting is designed to support current users\, as well as introduce prospective users\, to all the ways this tool can enhance your business. This is the place to be that will show you how REI Blackbook is filling in the gaps in a real estate investor business. We will cover everything from Lead-capturing websites\, contact management (CRM)\, business phone systems\, marketing automation\, property pipeline management\, property marketing & disposition\, and everything in between. Be ready to learn grow and transform your real estate business and journey. \nThe meeting will be hosted online at Zoom.com The meeting link will be emailed to you upon pre-registration – RETAIN THIS EMAIL! Please note\, download Zoom on your device of choice\, register for your free account and test your device for audio/camera/microphone capabilities. \nVERY IMPORTANT!! Just like checking in at our in-person meetings\, to enable us to check you in for the meeting your Zoom name must match your NCREIA account name – we need both first and last name to identify you. \n 
URL:https://greaterhoustonreia.net/event/rei-blackbook-support-training-9/
LOCATION:https://us02web.zoom.us/j/83361289822?pwd=9IjKvmnVyGXlChFeltCkP5kESTCbs2.1
ATTACH;FMTTYPE=image/png:https://greaterhoustonreia.net/wp-content/uploads/2026/03/REIBlackbookgraphicforlonestar-2.png
END:VEVENT
END:VCALENDAR