BEGIN:VCALENDAR
VERSION:2.0
PRODID:-//Greater Houston REIA - ECPv6.15.20//NONSGML v1.0//EN
CALSCALE:GREGORIAN
METHOD:PUBLISH
X-ORIGINAL-URL:https://greaterhoustonreia.net
X-WR-CALDESC:Events for Greater Houston REIA
REFRESH-INTERVAL;VALUE=DURATION:PT1H
X-Robots-Tag:noindex
X-PUBLISHED-TTL:PT1H
BEGIN:VTIMEZONE
TZID:America/Chicago
BEGIN:DAYLIGHT
TZOFFSETFROM:-0600
TZOFFSETTO:-0500
TZNAME:CDT
DTSTART:20240310T080000
END:DAYLIGHT
BEGIN:STANDARD
TZOFFSETFROM:-0500
TZOFFSETTO:-0600
TZNAME:CST
DTSTART:20241103T070000
END:STANDARD
BEGIN:DAYLIGHT
TZOFFSETFROM:-0600
TZOFFSETTO:-0500
TZNAME:CDT
DTSTART:20250309T080000
END:DAYLIGHT
BEGIN:STANDARD
TZOFFSETFROM:-0500
TZOFFSETTO:-0600
TZNAME:CST
DTSTART:20251102T070000
END:STANDARD
BEGIN:DAYLIGHT
TZOFFSETFROM:-0600
TZOFFSETTO:-0500
TZNAME:CDT
DTSTART:20260308T080000
END:DAYLIGHT
BEGIN:STANDARD
TZOFFSETFROM:-0500
TZOFFSETTO:-0600
TZNAME:CST
DTSTART:20261101T070000
END:STANDARD
END:VTIMEZONE
BEGIN:VEVENT
DTSTART;TZID=America/Chicago:20251105T183000
DTEND;TZID=America/Chicago:20251105T203000
DTSTAMP:20260424T184101
CREATED:20251022T195327Z
LAST-MODIFIED:20251022T195601Z
UID:10000617-1762367400-1762374600@greaterhoustonreia.net
SUMMARY:Wholesaling & New Investor Focus Group
DESCRIPTION:Greater Houston REIA Wholesaling & New Investor Focus Group\n\n\n\n\n\nLocation: 1419 FM 1960 Houston\, TX 77073 \n\n\n\n\n\n\n\nMarketing & Systems\n\n\n\n \n\n\n\n\nGenerating leads is crucial for real estate investors as it forms the lifeblood of their business. Leads represent potential clients or opportunities\, individuals or entities that are potentially  in distressed situations and might need to sell their properties. Join us for an in-depth exploration of essentials of Marketing: \n\n\n\n\nMarketing Tools & Systems\n\n\n\nMarketing Strategies: Inbound & Outbound\n\n\n\nUnderstanding Seller Motivations\n\n\n\nMarketing Channels\n\n\n\n\n \n\n\n\n\n \n\n\n\n\nMarketing to Motivated Sellers \n\n\n\nMarketing is a dynamic and constantly evolving field. When marketing isn’t executed properly\, it can quickly become a costly and frustrating endeavor. That’s why understanding the fundamentals of successful marketing is more important than ever. \n\n\n\nWe’re going to break down the key elements that go into crafting a winning marketing strategy. You’ll learn how to adapt to the latest trends\, avoid common pitfalls\, and make informed decisions that maximize your return on investment. \n\n\n\n\n \n\n\n\n\nMarketing Tools & Systems \n\n\n\nIn real estate\, having the right tools is just as crucial as finding the right deals. This session will reveal the must-have software and apps that streamline your workflow\, minimize risk\, and maximize profits. \n\n\n\nLearn the right tools for analyzing properties\, manage leads\, and pull accurate comps with ease. We’ll also cover the importance of a robust CRM\, automated marketing tools\, and platforms for managing rehabs and rentals. \n\n\n\nMore importantly\, we’ll show you when and how to use these tools at different stages of the investment process. By the end\, you’ll be ready to tackle any challenge with confidence\, using the right tools to get the job done efficiently and profitably! \n\n\n\n\n \n\n\n\nThis focus group offers education\, support\, and networking in an environment designed to help you succeed in real estate.  \n\n\n\n📌 RSVP Today to secure your spot and take the next step toward building a successful real estate business!
URL:https://greaterhoustonreia.net/event/wholesaling-new-investor-focus-group-9/
LOCATION:1419 FM 1960\, Houston\, TX 77073\, 1419 FM 1960\, Houston\, Texas\, 77073
ATTACH;FMTTYPE=image/png:https://greaterhoustonreia.net/wp-content/uploads/2024/09/GH-Wholesaling-New-Investor-Focus-Group.png
END:VEVENT
BEGIN:VEVENT
DTSTART;TZID=America/Chicago:20251107T114500
DTEND;TZID=America/Chicago:20251107T134500
DTSTAMP:20260424T184101
CREATED:20251028T183655Z
LAST-MODIFIED:20251028T183706Z
UID:10000622-1762515900-1762523100@greaterhoustonreia.net
SUMMARY:Online Haves/Wants/Deals
DESCRIPTION:Location: Zoom \n\n\n\n🔥 Friday Haves/Wants/Deals Call 🔥Fridays at 12:00 PM Central (Zoom opens at 11:45 AM)\n\n\n\nEvery Friday\, investors\, wholesalers\, dealmakers\, and action-takers from our community jump on Zoom to connect\, collaborate\, and make deals happen in real time. \n\n\n\n👉 Got a deal you need to pitch?👉 Looking for buyers\, funding\, or a partner?👉 Need a contractor or referral to keep your project moving?👉 Or just want to watch and learn how real deals get done? \n\n\n\nThis is the place. \n\n\n\n\nWholesalers – Bring your deals! Don’t sit on them—get them in front of buyers who are ready to act.\n\n\n\nInvestors – Be ready to buy! Opportunities don’t wait. The best deals move fast.\n\n\n\nEveryone else – Bring your haves\, wants\, and needs. This call is built on collaboration and helping one another win.\n\n\n\n\nWe open Zoom at 11:45 AM so you can get settled\, but we start sharp at 12:00 PM—no waiting around. Deals move fast\, and so do we. \n\n\n\nThis is more than a networking call. It’s a deal-making arena—a place where connections turn into contracts and collaboration turns into cash flow. \n\n\n\nDon’t just hear about deals happening—be part of them.
URL:https://greaterhoustonreia.net/event/online-haves-wants-deals-2/
END:VEVENT
BEGIN:VEVENT
DTSTART;TZID=America/Chicago:20251108T090000
DTEND;TZID=America/Chicago:20251108T120000
DTSTAMP:20260424T184101
CREATED:20251016T163943Z
LAST-MODIFIED:20251021T180210Z
UID:10000615-1762592400-1762603200@greaterhoustonreia.net
SUMMARY:Greater Houston REIA Monthly Main Meeting
DESCRIPTION:Greater Houston REIA Monthly Main Meeting & Networking\n\n\n\nStack Your Bricks in ’26: Your Strategic Playbook for Success\n\n\n\n\n\n\nLocation: 4615 Southwest Freeway\, Houston\, TX 77027 \n\n\n\nThe rules of the real estate market have changed — and old strategies won’t carry you forward. This month\, we’re focusing on planning for success\, building wealth\, and taking control of your future. \n\n\n\nJoin us for an in-depth session where top investors share actionable strategies\, tips\, and real-world examples that you can apply immediately. Whether you’re just starting out or looking to elevate your investing game\, this meeting will give you the tools and insights to thrive — no matter what the market does. \n\n\n\n\n\n\n\n\n\nWealth and Freedom Don’t Happen by Chance — \n\n\n\nThey’re Planned. Do You Have Your Playbook for ’26?\n\n\n\nSuccess doesn’t happen by accident — it’s designed. In today’s market\, the rules have changed\, and old strategies won’t carry you forward. That’s why having a clear vision\, defined goals\, and a concrete plan isn’t optional — it’s what separates those who thrive from those who drift. \n\n\n\nThe most successful investors aren’t waiting for the perfect deal or the “right moment.” They know exactly what they’ll do next\, even when the market shifts\, and they act with clarity and purpose. Down markets are often where fortunes are made\, but only for those who prepare\, plan\, and move decisively. \n\n\n\nThis is your chance to take control — to create your blueprint for 2026 and beyond. What will you do today to make your vision real? \n\n\n\nThis is your opportunity to get one step ahead before the new year even begins. \n\n\n\n\nClarify your vision and turn it into measurable\, money-making goals\n\n\n\nStack Your Bricks  — the strategies\, systems\, and daily habits that make your success unshakeable\n\n\n\nUse the VTO (Vision/Traction Organizer) to align your actions\, team\, and energy\n\n\n\nCreate your 2026 playbook so you can attack the year with focus and confidence\n\n\n\n\nBecause while everyone else is hesitating… the smart investors are positioning. And when the market turns — they’re the ones who dominate. \n\n\n\nThis isn’t about hype. It’s about direction. Clarity. Action. The question is: will you be ready when opportunity knocks? \n\n\n\n\n\n\n\nDoors open at 9am for Breakfast Snacks\, Coffee\, Refreshments\, and Networking. So\, come early and get checked in.  \n\n\n\nAlso on the agenda:  \n\n\n\nCase Study: Real Deal BreakdownGet an insider’s look at a real investment deal from start to finish! Our featured investor will share their experience\, walk you through the numbers\, reveal the wins\, the losses\, and most importantly — the lessons learned. This is your chance to see exactly how deals get done\, learn strategies you can apply immediately\, and gain insights that only come from real-world experience. Don’t just hear about success — see it in action! \n\n\n\nTip of the Month: Expert Strategy RevealedGet ready for a deep dive into a high-impact real estate strategy from one of our experts! This month’s tip will break down a proven tactic in detail\, showing you exactly how to implement it\, avoid common mistakes\, and get results faster. \n\n\n\n\n\n\n\nHonoring Our VeteransThis November\, we pause to honor the brave men and women who have served our country and risked everything for our freedom. At our Monthly Main Meeting\, we’ll celebrate their courage\, dedication\, and sacrifice — because freedom isn’t free\, and neither is the opportunity to build your future. \n\n\n\nWe invite you to bring your Veteran family members and friends to join us in this special tribute. Together\, let’s show our gratitude and recognize those who have given so much for all of us.
URL:https://greaterhoustonreia.net/event/greater-houston-reia-monthly-main-meeting-2/
END:VEVENT
BEGIN:VEVENT
DTSTART;TZID=America/Chicago:20251108T130000
DTEND;TZID=America/Chicago:20251108T170000
DTSTAMP:20260424T184101
CREATED:20251022T203911Z
LAST-MODIFIED:20251107T042055Z
UID:10000618-1762606800-1762621200@greaterhoustonreia.net
SUMMARY:Afternoon Workshop: Title 101
DESCRIPTION:🏡 What Every Investor Needs to Know About Titles\, Title Commitments & Closing Smoothly\n\n\n\n\n\nLocation: 4615 Southwest Freeway Houston\, TX 77027 \n\n\n\nThis workshop will be after our Monthly Main Meeting \n\n\n\n🏡 Title 101: What Every Investor Needs to Know About Titles\, Commitments & Closing Smoothly\n\n\n\n📅 Saturday\, November 8\, 2025 | 🕓 1:00 PM – 3:30 PM (Immediately After the Main Meeting) 📍 Greater Houston REIA – 4615 Southwest Fwy Houston\, TX 77027 💰 $29 Members | $49 Non-Members \n\n\n\n\n👉 Register Now (via Alamo REIA)\n\n\n\n\n💥 You Found the Deal — But Can You Actually Close It?\n\n\n\nSo many investors lose time\, money\, and deals because they don’t understand the title process. Hidden liens\, title fraud\, missing heirs\, old mortgages\, unpaid taxes\, and other title issues can turn your dream deal into a nightmare. \n\n\n\nThat’s why we’re hosting this hands-on\, no-fluff workshop: “Title 101.” Whether you’re wholesaling\, flipping\, or buying rentals\, understanding how title really works can save you thousands — and help you close faster with confidence. \n\n\n\n🧠 What You’ll Learn:\n\n\n\n✅ The Title Process Simplified – Follow your deal from contract to close and understand exactly what’s happening behind the scenes.✅ Decoding the Title Commitment – Learn how to read\, interpret\, and spot red flags before they cost you money.✅ Title Insurance Explained – What’s covered\, what’s not\, and when it can protect you from major headaches.✅ Title Fees & Closing Costs – What you’re paying for\, how to negotiate\, and how to avoid unnecessary charges.✅ Protecting Yourself from Title Fraud – Learn the warning signs\, how to verify ownership\, and tools to keep your properties safe. \n\n\n\n⚡ Why You Shouldn’t Miss This:\n\n\n\nYou’ll walk away with the insider knowledge that separates amateurs from pros — the kind of information that helps you: \n\n\n\n\nAvoid costly mistakes\n\n\n\nClose deals faster\n\n\n\nProtect your investments\n\n\n\nGain confidence when working with title companies\n\n\n\n\nThis workshop will demystify one of the most misunderstood (& most important) parts of real estate.  \n\n\n\n💰 Members: $29 | Non-Members: $49 📅 Saturday\, November 8\, 2025 | 1:00 – 3:30 PM 📍 Greater Houston REIA Headquarters \n\n\n\n👉 Don’t just buy and sell real estate — understand it. Grab your seat before it’s gone and take control of your next closing! \n\n\n\n\n👉 Register Now (via Alamo REIA)
URL:https://greaterhoustonreia.net/event/afternoon-workshop-title-101/
ATTACH;FMTTYPE=image/png:https://greaterhoustonreia.net/wp-content/uploads/2022/03/Hou3day3.png
END:VEVENT
BEGIN:VEVENT
DTSTART;TZID=America/Chicago:20251113T120000
DTEND;TZID=America/Chicago:20251113T140000
DTSTAMP:20260424T184101
CREATED:20251107T190540Z
LAST-MODIFIED:20251107T190639Z
UID:10000623-1763035200-1763042400@greaterhoustonreia.net
SUMMARY:Lunch & Learn & Plant Tour
DESCRIPTION:💥 Cabinet Refresh Made FAST\, EASY\, and AFFORDABLE!\n\n\n\n\n\nLocation: 7350 Langfield Rd Houston\, TX 77092 \n\n\n\nJoin us for an exclusive behind-the-scenes Lunch & Learn + Plant Tour with Qwikkit\, Houston’s own cabinet refacing manufacturer that’s transforming kitchens and bathrooms across the nation. \n\n\n\nQwikkit makes it simple for investors\, flippers\, and contractors to modernize properties for a fraction of the cost of full replacements — all with lightning-fast turnaround times\, factory precision\, and sleek\, durable designs that buyers and renters love. \n\n\n\nAt this interactive session\, you’ll:✅ Discover how Qwikkit helps you refresh cabinets in just 2 days for 1/3 the cost of replacements✅ Learn how to order and install complete kits that include everything — from doors and pulls to matching paint and moldings✅ See the automated production process up close at Qwikkit’s new 120\,000 sq. ft. plant✅ Get exclusive Lone Star REIA pricing and see how easy it is to quote\, order\, and install your next project✅ Network with other investors and enjoy a great lunch while you learn \n\n\n\nWhether you’re renovating rentals\, flipping homes\, or managing multiple projects\, this event will open your eyes to faster\, smarter ways to add value and boost your ROI. \n\n\n\n🍴 Lunch is on us — come early\, grab a plate\, and connect before the tour starts! 👉 Space is limited — RSVP today before it fills up!
URL:https://greaterhoustonreia.net/event/lunch-learn-plant-tour/
LOCATION:Quikkit\, 7350 Langfield Rd\, Houston\, Texas\, 77092
END:VEVENT
BEGIN:VEVENT
DTSTART;TZID=America/Chicago:20251113T183000
DTEND;TZID=America/Chicago:20251113T203000
DTSTAMP:20260424T184101
CREATED:20251022T211546Z
LAST-MODIFIED:20251028T150226Z
UID:10000619-1763058600-1763065800@greaterhoustonreia.net
SUMMARY:Landlord Focus Group
DESCRIPTION:Greater Houston REIA Landlord Focus Group\n\n\n\n🏘️ The Mobile Home Investing Market: Hidden Profits in Affordable Housing\n\n\n\n\n\nLocation: 5502 5th St Katy\, TX 77493 \n\n\n\nSnacks & Refreshments Provided \n\n\n\n\n\n\n\n🚀 Greater Houston REIA Landlord Focus Group\n\n\n\n🏘️ The Mobile Home Investing Market: Hidden Profits in Affordable Housing\n\n\n\n📅 Thursday\, November 13\, 2025🕡 6:30 PM – 8:30 PM📍 5502 5th St\, Katy\, TX 77493 \n\n\n\nAffordable housing is one of the biggest opportunities in real estate right now — and mobile home investing is leading the charge. \n\n\n\nAs real estate market changes\, smart investors are shifting their focus to a niche that offers strong cash flow\, steady demand\, and less competition. Whether you’re a landlord looking to expand your portfolio\, a flipper searching for the next high-margin opportunity\, or an investor ready to create passive income through seller financing — this focus group is your insider’s guide. \n\n\n\n💡 Here’s what you’ll discover:\n\n\n\n✅ How investors are creating massive ROI with mobile homes — even in today’s tough market✅ The differences between mobile home investing vs. traditional real estate — and how to leverage both✅ Where to find motivated sellers and hidden deals most investors overlook✅ How to avoid costly mistakes with titles\, park rules\, and move costs✅ Real-world strategies for flipping\, renting\, and creating notes (so you can be the bank!) \n\n\n\nYou’ll hear real-world insights\, deal stories\, and tactical strategies that you can take action on immediately. \n\n\n\nThis is not theory. This is street-smart\, Houston-tested investing at its best. \n\n\n\nSo grab your notebook\, your questions\, and your appetite for opportunity — because this month’s Landlord Focus Group is all about unlocking new income streams in one of the most misunderstood (yet profitable) corners of real estate. \n\n\n\n🎯 Seats are limited — RSVP now to secure your spot!
URL:https://greaterhoustonreia.net/event/landlord-focus-group-5/
LOCATION:5502 5th St Katy\, TX 77493\, 5502 5th St\, Katy\, Texas\, 77493
ATTACH;FMTTYPE=image/png:https://greaterhoustonreia.net/wp-content/uploads/2024/09/GH-Landlord-Focus-Group.png
END:VEVENT
BEGIN:VEVENT
DTSTART;TZID=America/Chicago:20251114T114500
DTEND;TZID=America/Chicago:20251114T134500
DTSTAMP:20260424T184101
CREATED:20251112T181030Z
LAST-MODIFIED:20251112T181038Z
UID:10000624-1763120700-1763127900@greaterhoustonreia.net
SUMMARY:Online Haves/Wants/Deals
DESCRIPTION:Location: Zoom \n\n\n\n🔥 Friday Haves/Wants/Deals Call 🔥Fridays at 12:00 PM Central (Zoom opens at 11:45 AM)\n\n\n\nEvery Friday\, investors\, wholesalers\, dealmakers\, and action-takers from our community jump on Zoom to connect\, collaborate\, and make deals happen in real time. \n\n\n\n👉 Got a deal you need to pitch?👉 Looking for buyers\, funding\, or a partner?👉 Need a contractor or referral to keep your project moving?👉 Or just want to watch and learn how real deals get done? \n\n\n\nThis is the place. \n\n\n\n\nWholesalers – Bring your deals! Don’t sit on them—get them in front of buyers who are ready to act.\n\n\n\nInvestors – Be ready to buy! Opportunities don’t wait. The best deals move fast.\n\n\n\nEveryone else – Bring your haves\, wants\, and needs. This call is built on collaboration and helping one another win.\n\n\n\n\nWe open Zoom at 11:45 AM so you can get settled\, but we start sharp at 12:00 PM—no waiting around. Deals move fast\, and so do we. \n\n\n\nThis is more than a networking call. It’s a deal-making arena—a place where connections turn into contracts and collaboration turns into cash flow. \n\n\n\nDon’t just hear about deals happening—be part of them.
URL:https://greaterhoustonreia.net/event/online-haves-wants-deals-3/
END:VEVENT
BEGIN:VEVENT
DTSTART;TZID=America/Chicago:20251115T090000
DTEND;TZID=America/Chicago:20251115T170000
DTSTAMP:20260424T184101
CREATED:20251009T194708Z
LAST-MODIFIED:20251009T194727Z
UID:10000614-1763197200-1763226000@greaterhoustonreia.net
SUMMARY:LoneStar REIA Mastermind
DESCRIPTION:LoneStar REIA Mastermind \n\n\n\n\n\nLocation: Galveston\, TX  \n\n\n\nLone Star REIA Real Estate Mastermind\n\n\n\nNovember 14-16\, 2025 \n\n\n\nGalveston\, TX  \n\n\n\nRooms That Change Your Life\n\n\n\nSome rooms change your business. Some rooms change your life. This is both. \n\n\n\nTwo Days of Acceleration\n\n\n\nFor two full days\, you’ll be in a room with serious investors who are done with average results and ready to accelerate. Every business gets a hot seat — a chance to present challenges\, get feedback\, and receive actionable strategies tailored to your situation. Every opportunity gets analyzed and amplified. You’ll leave with clarity\, practical next steps\, and a level of confidence that actually moves the needle. \n\n\n\nThe VTO Advantage\n\n\n\nOne of the game-changers this weekend: we’ll spend dedicated time on the Vision/Traction Organizer (VTO) — what it is\, why every business should have one\, and how it can give you a framework for clarity\, focus\, and growth. Even a high-level understanding will change how you approach your business and make decisions with confidence. \n\n\n\nBreakthroughs That Stick\n\n\n\nThis mastermind isn’t just talk. It’s about breakthroughs that stick. Insights that cut years off your learning curve. Relationships that open doors you didn’t even know existed. Momentum that flips the switch from stuck to scaling. \n\n\n\nSuccess Isn’t a Solo Game\n\n\n\nHere’s the truth: if you stay isolated\, you’ll keep spinning wheels\, guessing\, and leaving opportunities on the table. Step into this room\, and you’ll feel the shift — surrounded by people who think bigger\, move faster\, and push you to reach higher than you thought possible. \n\n\n\nWalk Away With More\n\n\n\nBy the end of the weekend\, you’ll walk away with more than a plan. You’ll have a network\, a clear vision\, and the fire to execute at a level you didn’t know you could. Plus\, actionable insights — including how to start leveraging a VTO to drive your business forward. \n\n\n\nThe Only Question\n\n\n\nThe question isn’t “should I go?” — it’s\, “can you afford to miss this?” \n\n\n\nPrice: REIA Members: $299    Non-Members: $499 \n\n\n\n\nClick here to register for this mastermind
URL:https://greaterhoustonreia.net/event/lonestar-reia-mastermind/
END:VEVENT
BEGIN:VEVENT
DTSTART;TZID=America/Chicago:20251115T100000
DTEND;TZID=America/Chicago:20251115T120000
DTSTAMP:20260424T184102
CREATED:20251028T142001Z
LAST-MODIFIED:20251028T142020Z
UID:10000620-1763200800-1763208000@greaterhoustonreia.net
SUMMARY:Women In Real Estate
DESCRIPTION:Greater Houston REIA WIRE Group\n\n\n\n\n\n\n\n\n\nLocation: Wolfies Restaurant: 25550 I-45\, Spring\, TX 77386 \n\n\n\n🌟👠 Greater Houston WIRE: Empowering Women Investors\n\n\n\nLadies\, welcome to your new favorite room in the real estate world. \n\n\n\nWhether you’re just starting out or you’re already flipping\, renting\, wholesaling\, or listing like a pro\, WIRE is YOUR place—designed by women\, for women—to learn\, connect\, grow\, and thrive in real estate. \n\n\n\n👩‍🏫 The Learner: Are you craving clarity? Step into a safe\, welcoming space where no question is too basic and every step forward is celebrated. Learn real-world strategies\, ask anything\, and soak up wisdom from women who’ve been there\, done that. \n\n\n\n💬 The Networker: You’ll love the relationships you build here. Meet like-minded women who are serious about building wealth\, sharing knowledge\, and lifting each other up—not competing\, but collaborating. \n\n\n\n🚀 The Action-Taker: We don’t just talk real estate. We do real estate. Learn how to analyze deals\, find comps\, market creatively\, navigate negotiations\, and take that next confident step. No fluff. Just traction. \n\n\n\n🎯 The Visionary: You’ve got big dreams—and you need the right environment to grow them. WIRE is your launchpad. Surround yourself with other powerful women who will challenge you\, cheer you on\, and help you play bigger. \n\n\n\n✨ Why WIRE Stands Out: \n\n\n\n\nMonthly in-person meetings filled with practical education\, inspiration\, and real-life case studies\n\n\n\nGuest speakers and women leaders who know their stuff\n\n\n\nA smaller\, intimate setting where you’re not just a face in the crowd—you’re part of the conversation\n\n\n\nReal strategies. Real connections. Real results.\n\n\n\n\n**No sales pitches. No ego. Just real estate the way women were meant to do it—**with purpose\, passion\, and power. 💪 \n\n\n\nReady to build your business\, your wealth\, and your confidence?👉 Join us at the next WIRE meeting.
URL:https://greaterhoustonreia.net/event/women-in-real-estate/
ATTACH;FMTTYPE=image/png:https://greaterhoustonreia.net/wp-content/uploads/2022/03/462568744_1277013170231498_1824169316325339257_n-1.png
END:VEVENT
END:VCALENDAR