BEGIN:VCALENDAR
VERSION:2.0
PRODID:-//Greater Houston REIA - ECPv6.15.20//NONSGML v1.0//EN
CALSCALE:GREGORIAN
METHOD:PUBLISH
X-WR-CALNAME:Greater Houston REIA
X-ORIGINAL-URL:https://greaterhoustonreia.net
X-WR-CALDESC:Events for Greater Houston REIA
REFRESH-INTERVAL;VALUE=DURATION:PT1H
X-Robots-Tag:noindex
X-PUBLISHED-TTL:PT1H
BEGIN:VTIMEZONE
TZID:America/Chicago
BEGIN:DAYLIGHT
TZOFFSETFROM:-0600
TZOFFSETTO:-0500
TZNAME:CDT
DTSTART:20240310T080000
END:DAYLIGHT
BEGIN:STANDARD
TZOFFSETFROM:-0500
TZOFFSETTO:-0600
TZNAME:CST
DTSTART:20241103T070000
END:STANDARD
BEGIN:DAYLIGHT
TZOFFSETFROM:-0600
TZOFFSETTO:-0500
TZNAME:CDT
DTSTART:20250309T080000
END:DAYLIGHT
BEGIN:STANDARD
TZOFFSETFROM:-0500
TZOFFSETTO:-0600
TZNAME:CST
DTSTART:20251102T070000
END:STANDARD
BEGIN:DAYLIGHT
TZOFFSETFROM:-0600
TZOFFSETTO:-0500
TZNAME:CDT
DTSTART:20260308T080000
END:DAYLIGHT
BEGIN:STANDARD
TZOFFSETFROM:-0500
TZOFFSETTO:-0600
TZNAME:CST
DTSTART:20261101T070000
END:STANDARD
END:VTIMEZONE
BEGIN:VEVENT
DTSTART;TZID=America/Chicago:20251203T183000
DTEND;TZID=America/Chicago:20251203T203000
DTSTAMP:20260424T202422
CREATED:20251201T164753Z
LAST-MODIFIED:20251201T164802Z
UID:10000646-1764786600-1764793800@greaterhoustonreia.net
SUMMARY:Wholesaling & New Investor Focus Group
DESCRIPTION:Location: 1419 FM 1960 Houston\, TX 77073 \n\n\n\nWholesaling & New Investor Focus Group\n\n\n\nStop Sitting on the Sidelines — Learn How to Do Deals With Little to No Money!\n\n\n\nClosing Out 2025 With a Bang — And Launching Into 2026!\n\n\n\nThis is it.The final Wholesaling & New Investor Focus Group of the year — and it’s designed to set you up to WIN in 2026. \n\n\n\nIf you’re serious about getting into real estate…If you’ve been trying to wholesale but haven’t gotten traction…If you want clarity\, confidence\, direction\, and a community that actually helps you take action… \n\n\n\n👉 You do NOT want to miss this one. \n\n\n\n🔥 What We’re Covering (Action-Based\, Results-Focused)\n\n\n\nWe’re diving deep into the entire beginners-to-deal-makers pipeline: \n\n\n\n🧭 Acquisitions: Finding & Securing the Right Deals\n\n\n\n\nHow to negotiate like a pro\n\n\n\nHow to acquire properties with or without your own money\n\n\n\nHow to talk to sellers so they trust you\, open up\, and say yes\n\n\n\nHow to buy the right way so you never get stuck in a bad deal\n\n\n\n\n🚀 Exit Strategies: Dispo\, Buyers & Getting Paid\n\n\n\n\nHow to build a strong buyers list\n\n\n\nHow to find active buyers who will pay top dollar\n\n\n\nHow to structure deals from start to finish\n\n\n\nHow to find partners & build your “power team”\n\n\n\n\n💡 The Truth:\n\n\n\nYou make your money on the buy… and you get paid on the exit. \n\n\n\nMost new investors sit on the sidelines because they think they need money.But that thought alone is costing people more money than anything else. \n\n\n\nAt this session\, we’re going to show you: \n\n\n\n\nHow deals really get done\n\n\n\nHow to structure them with little to no money out of pocket\n\n\n\nWhy YOU can start right now — even if you’re new\, nervous\, or unsure where to begin\n\n\n\n\nGive yourself the one gift that keeps paying dividends all year long:The knowledge and confidence to go out and make deals happen. \n\n\n\nCome ready to learn\, connect\, ask questions\, take notes\, and walk out with the clarity and energy to crush 2026. \n\n\n\n📅 Event Details\n\n\n\nDate: Wednesday\, December 3\, 2025Time: 6:30 PM – 8:30 PMLocation: 1419 FM 1960\, Houston\, TX 77073
URL:https://greaterhoustonreia.net/event/wholesaling-new-investor-focus-group-10/
LOCATION:1419 FM 1960\, Houston\, TX 77073\, 1419 FM 1960\, Houston\, Texas\, 77073
END:VEVENT
BEGIN:VEVENT
DTSTART;TZID=America/Chicago:20251105T183000
DTEND;TZID=America/Chicago:20251105T203000
DTSTAMP:20260424T202422
CREATED:20251022T195327Z
LAST-MODIFIED:20251022T195601Z
UID:10000617-1762367400-1762374600@greaterhoustonreia.net
SUMMARY:Wholesaling & New Investor Focus Group
DESCRIPTION:Greater Houston REIA Wholesaling & New Investor Focus Group\n\n\n\n\n\nLocation: 1419 FM 1960 Houston\, TX 77073 \n\n\n\n\n\n\n\nMarketing & Systems\n\n\n\n \n\n\n\n\nGenerating leads is crucial for real estate investors as it forms the lifeblood of their business. Leads represent potential clients or opportunities\, individuals or entities that are potentially  in distressed situations and might need to sell their properties. Join us for an in-depth exploration of essentials of Marketing: \n\n\n\n\nMarketing Tools & Systems\n\n\n\nMarketing Strategies: Inbound & Outbound\n\n\n\nUnderstanding Seller Motivations\n\n\n\nMarketing Channels\n\n\n\n\n \n\n\n\n\n \n\n\n\n\nMarketing to Motivated Sellers \n\n\n\nMarketing is a dynamic and constantly evolving field. When marketing isn’t executed properly\, it can quickly become a costly and frustrating endeavor. That’s why understanding the fundamentals of successful marketing is more important than ever. \n\n\n\nWe’re going to break down the key elements that go into crafting a winning marketing strategy. You’ll learn how to adapt to the latest trends\, avoid common pitfalls\, and make informed decisions that maximize your return on investment. \n\n\n\n\n \n\n\n\n\nMarketing Tools & Systems \n\n\n\nIn real estate\, having the right tools is just as crucial as finding the right deals. This session will reveal the must-have software and apps that streamline your workflow\, minimize risk\, and maximize profits. \n\n\n\nLearn the right tools for analyzing properties\, manage leads\, and pull accurate comps with ease. We’ll also cover the importance of a robust CRM\, automated marketing tools\, and platforms for managing rehabs and rentals. \n\n\n\nMore importantly\, we’ll show you when and how to use these tools at different stages of the investment process. By the end\, you’ll be ready to tackle any challenge with confidence\, using the right tools to get the job done efficiently and profitably! \n\n\n\n\n \n\n\n\nThis focus group offers education\, support\, and networking in an environment designed to help you succeed in real estate.  \n\n\n\n📌 RSVP Today to secure your spot and take the next step toward building a successful real estate business!
URL:https://greaterhoustonreia.net/event/wholesaling-new-investor-focus-group-9/
LOCATION:1419 FM 1960\, Houston\, TX 77073\, 1419 FM 1960\, Houston\, Texas\, 77073
ATTACH;FMTTYPE=image/png:https://greaterhoustonreia.net/wp-content/uploads/2024/09/GH-Wholesaling-New-Investor-Focus-Group.png
END:VEVENT
BEGIN:VEVENT
DTSTART;TZID=America/Chicago:20251001T183000
DTEND;TZID=America/Chicago:20251001T203000
DTSTAMP:20260424T202422
CREATED:20250917T184737Z
LAST-MODIFIED:20250930T172401Z
UID:10000601-1759343400-1759350600@greaterhoustonreia.net
SUMMARY:GreaterHoustonREIAWholesaling&NewInvestorFocusGroup
DESCRIPTION:Unlock Your Path to Real Estate Success: Wholesaling & New Investor Focus Group\n\n\n\n\n\nLocation: 1419 FM 1960 Houston\, TX 77073 \n\n\n\n\n\n\n\nUnlock Your Path to Real Estate Success: Wholesaling & New Investor Focus Group\n\n\n\nDate: Wednesday\, October 1\, 2025Time: 6:30 PM – 8:30 PMLocation: 1419 FM 1960 Houston\, TX 77073 \n\n\n\nWhether you’re dreaming of escaping the 9–5 grind\, ready to scale your first flip or rental\, or looking for practical strategies to grow your side income\, this Focus Group is your next step toward financial freedom. \n\n\n\nAt the Greater Houston REIA Wholesaling and New Investor Focus Group\, you’ll discover how to leverage wholesaling—a proven strategy that allows you to profit from real estate without ever buying the property yourself. You’ll learn how to identify discounted properties\, negotiate effectively\, and connect with motivated buyers\, turning opportunities into real profits. \n\n\n\nWhat You’ll Learn:\n\n\n\n\nSet Yourself Up for Success: Master the mindset\, goals\, and expectations that separate successful investors from the rest.\n\n\n\nWholesaling 101: Learn exactly what wholesaling is and why it’s one of the fastest ways to get started in real estate.\n\n\n\nStep-by-Step Wholesale Process: From finding properties to assigning contracts\, we’ll walk you through every step of the process with actionable strategies.\n\n\n\n\nThis isn’t just another seminar—it’s a hands-on opportunity to gain clarity\, confidence\, and actionable strategies you can implement immediately. You’ll leave with a solid understanding of how to jump into wholesaling\, scale your investments\, and create momentum toward your financial goals. \n\n\n\nWhy Attend: \n\n\n\n\nNetwork with like-minded investors and build your real estate community\n\n\n\nGain insights that can turn your first deal—or your next deal—into real profits\n\n\n\nLearn strategies that work whether you’re just starting out or looking to expand your portfolio\n\n\n\n\nTake this opportunity to learn\, connect\, and gain clarity on your next steps in real estate. Seats are limited\, so join us and leave with practical strategies you can put to work right away. Your journey to building real wealth starts here.
URL:https://greaterhoustonreia.net/event/greaterhoustonreiawholesalingnewinvestorfocusgroup/
LOCATION:1419 FM 1960\, Houston\, TX 77073\, 1419 FM 1960\, Houston\, Texas\, 77073
ATTACH;FMTTYPE=image/png:https://greaterhoustonreia.net/wp-content/uploads/2024/09/GH-Wholesaling-New-Investor-Focus-Group.png
END:VEVENT
BEGIN:VEVENT
DTSTART;TZID=America/Chicago:20250927T090000
DTEND;TZID=America/Chicago:20250927T110000
DTSTAMP:20260424T202422
CREATED:20250819T134633Z
LAST-MODIFIED:20250926T152921Z
UID:10000592-1758963600-1758970800@greaterhoustonreia.net
SUMMARY:InvestorWorkshop
DESCRIPTION:Real Estate Investor Workshop:\n\n\n\nHow to Build Wealth\, Create Freedom\, & Retire On Your Terms With Real Estate\n\n\n\n\nCome experience this in-person investor workshop and see how real estate can change your financial future — even if you’re starting from scratch. \n\n\n\n\n\n\nLocation: 1419 FM 1960\, Houston\, TX 77073 \n\n\n\nOnly 35 Seats\, so claim yours NOW! & Show Up Early! \n\n\n\nFrom Your First Deal to Financial Freedom – and Beyond\n\n\n\nAre you tired of sitting on the sidelines while others build wealth through real estate? \n\n\n\nWhether you’re brand new and chasing your first deal — or you’ve done a few and feel stuck — this workshop is designed to help you move forward. You’ll discover the exact strategies and resources today’s investors are using to find deals\, fund them\, and build lasting wealth. \n\n\n\nThis workshop shows you how to succeed in real estate:\n\n\n\n\n\nCreate FreedomReal estate isn’t just about money — it’s about creating the life you truly want. Learn how to gain financial security\, reclaim your time\, and live anywhere you dream.\n\n\n\nMake Money & Get PaidLearn how to structure your deals to earn cashflow\, profits\, and hidden opportunities — getting paid multiple times from a single property while building lasting wealth.\n\n\n\nHow & Where to Find MoneyLearn how to access the funding you need and structure deals for success — so you can invest confidently and turn opportunities into income.\n\n\n\nFinding DealsDiscover how to uncover profitable properties\, turn leads into real deals\, and transform them into cashflow and lasting wealth.\n\n\n\n\n\n \n\n\n\n\nAttend this workshop and learn directly from Texas real estate legend Ray Sasser.\n\n\n\n\nRay Sasser is a seasoned real estate investor with over 40 years of experience and the scars to prove it. A proud Coast Guard veteran\, Ray began his journey in the corporate world while investing part-time in real estate\, gaining real-world experience across a wide range of deals. \n\n\n\nRay has mastered nearly every type of real estate investment — from house flipping and wholesaling to subject-to and creative financing — and has built a substantial rental portfolio including single-family and small multifamily properties\, and some small commercial properties. \n\n\n\nFor more than 20 years\, Ray has been teaching everyday people how to invest in real estate\, sharing the strategies\, insights\, and confidence needed to create cashflow\, build wealth\, and achieve financial freedom. \n\n\n\nOutside of real estate\, Ray is passionate about staying active\, especially working out and riding his bike — proving that discipline\, consistency\, and energy aren’t just for investing\, but for life. \n\n\n\nReady to Join Us?\n\n\n\nReal estate doesn’t have to be overwhelming\, and you don’t have to figure it out alone. This workshop is your chance to learn\, ask questions\, and connect with people who are actually doing deals in today’s market. \n\n\n\nPull up a seat\, bring your notebook\, and let’s dig in together. \n\n\n\n📅 Saturday\, September 27\, 2025 ⏰ 9am–11am 📍 1419 FM 1960\, Houston\, TX 77073 \n\n\n\n👉 Reserve your spot below
URL:https://greaterhoustonreia.net/event/investorworkshop-2/
LOCATION:1419 FM 1960\, Houston\, TX 77073\, 1419 FM 1960\, Houston\, Texas\, 77073
END:VEVENT
END:VCALENDAR