BEGIN:VCALENDAR
VERSION:2.0
PRODID:-//Greater Houston REIA - ECPv6.15.20//NONSGML v1.0//EN
CALSCALE:GREGORIAN
METHOD:PUBLISH
X-ORIGINAL-URL:https://greaterhoustonreia.net
X-WR-CALDESC:Events for Greater Houston REIA
REFRESH-INTERVAL;VALUE=DURATION:PT1H
X-Robots-Tag:noindex
X-PUBLISHED-TTL:PT1H
BEGIN:VTIMEZONE
TZID:America/Chicago
BEGIN:DAYLIGHT
TZOFFSETFROM:-0600
TZOFFSETTO:-0500
TZNAME:CDT
DTSTART:20250309T080000
END:DAYLIGHT
BEGIN:STANDARD
TZOFFSETFROM:-0500
TZOFFSETTO:-0600
TZNAME:CST
DTSTART:20251102T070000
END:STANDARD
BEGIN:DAYLIGHT
TZOFFSETFROM:-0600
TZOFFSETTO:-0500
TZNAME:CDT
DTSTART:20260308T080000
END:DAYLIGHT
BEGIN:STANDARD
TZOFFSETFROM:-0500
TZOFFSETTO:-0600
TZNAME:CST
DTSTART:20261101T070000
END:STANDARD
BEGIN:DAYLIGHT
TZOFFSETFROM:-0600
TZOFFSETTO:-0500
TZNAME:CDT
DTSTART:20270314T080000
END:DAYLIGHT
BEGIN:STANDARD
TZOFFSETFROM:-0500
TZOFFSETTO:-0600
TZNAME:CST
DTSTART:20271107T070000
END:STANDARD
END:VTIMEZONE
BEGIN:VEVENT
DTSTART;TZID=America/Chicago:20260107T183000
DTEND;TZID=America/Chicago:20260107T203000
DTSTAMP:20260424T201905
CREATED:20251203T154902Z
LAST-MODIFIED:20260105T170246Z
UID:10000647-1767810600-1767817800@greaterhoustonreia.net
SUMMARY:Wholesaling & New Investors Focus Group
DESCRIPTION:Greater Houston REIA Wholesaling & New Investor Focus Group\n\n\n\n\n\nLocation: 5295 Hollister Rd\, Houston\, TX 77040 \n\n\n\n\n\n\n\n1st Wednesday Each Month • 6:30pm–8:30pm\n\n\n\nThe Wholesaling & New Investor Focus Group is where new and experienced investors come to learn the strategies\, conversations\, and real-world actions that lead to successful deals. This group was created to give you a smaller\, more connected environment where you can ask questions\, gain clarity\, and build confidence—while learning from people who are actively doing deals in today’s market. \n\n\n\nEach month\, we break down what’s working right now: how to find opportunities\, talk to sellers\, run numbers\, negotiate stronger\, and structure profitable deals. You’ll hear real examples\, real experiences\, and practical insights you can use immediately—whether you’re trying to get your first contract\, build a pipeline\, or improve your deal-making skills. \n\n\n\nRealtors love this group too\, because it reveals a side of the business traditional training never covers: creative solutions\, off-market strategies\, and the art of serving clients while unlocking more opportunities. \n\n\n\nMost importantly\, you’ll be surrounded by people who support your growth\, celebrate your wins\, and push you forward. Investors learn faster—and succeed more often—when they’re not doing it alone. \n\n\n\nIf you want direction\, momentum\, and a community that helps you take action…This is where you belong.
URL:https://greaterhoustonreia.net/event/wholesaling-new-investors-focus-group/
LOCATION:5295 Hollister Rd\, Houston\, TX 77040\, 5295 Hollister Rd\, Houston\, Texas\, 77040\, United States
ATTACH;FMTTYPE=image/png:https://greaterhoustonreia.net/wp-content/uploads/2024/09/GH-Wholesaling-New-Investor-Focus-Group.png
END:VEVENT
END:VCALENDAR