BEGIN:VCALENDAR
VERSION:2.0
PRODID:-//Greater Houston REIA - ECPv6.15.20//NONSGML v1.0//EN
CALSCALE:GREGORIAN
METHOD:PUBLISH
X-WR-CALNAME:Greater Houston REIA
X-ORIGINAL-URL:https://greaterhoustonreia.net
X-WR-CALDESC:Events for Greater Houston REIA
REFRESH-INTERVAL;VALUE=DURATION:PT1H
X-Robots-Tag:noindex
X-PUBLISHED-TTL:PT1H
BEGIN:VTIMEZONE
TZID:America/Chicago
BEGIN:DAYLIGHT
TZOFFSETFROM:-0600
TZOFFSETTO:-0500
TZNAME:CDT
DTSTART:20240310T080000
END:DAYLIGHT
BEGIN:STANDARD
TZOFFSETFROM:-0500
TZOFFSETTO:-0600
TZNAME:CST
DTSTART:20241103T070000
END:STANDARD
BEGIN:DAYLIGHT
TZOFFSETFROM:-0600
TZOFFSETTO:-0500
TZNAME:CDT
DTSTART:20250309T080000
END:DAYLIGHT
BEGIN:STANDARD
TZOFFSETFROM:-0500
TZOFFSETTO:-0600
TZNAME:CST
DTSTART:20251102T070000
END:STANDARD
BEGIN:DAYLIGHT
TZOFFSETFROM:-0600
TZOFFSETTO:-0500
TZNAME:CDT
DTSTART:20260308T080000
END:DAYLIGHT
BEGIN:STANDARD
TZOFFSETFROM:-0500
TZOFFSETTO:-0600
TZNAME:CST
DTSTART:20261101T070000
END:STANDARD
END:VTIMEZONE
BEGIN:VEVENT
DTSTART;TZID=America/Chicago:20251204T113000
DTEND;TZID=America/Chicago:20251204T140000
DTSTAMP:20260424T205609
CREATED:20251120T222417Z
LAST-MODIFIED:20251203T210626Z
UID:10000626-1764847800-1764856800@greaterhoustonreia.net
SUMMARY:Lunch & Learn
DESCRIPTION:🍴Lunch\, Learn & Save Thousands: Cabinet Makeover Secrets with Qwikkit \n\n\n\n📍 Live  Investor Discount Strategy Session + Plant Tour  📅 Thursday\, December 4\, 2025 🕦 Arrive by 11:30 AM for Lunch & Networking 🎤 Presentation Starts Promptly at 12:00 PM \n\n\n\nCaptain Obvious here: Kitchens sell houses. \n\n\n\nRetail buyer? They judge the kitchen. \n\n\n\nRental property? Tenants judge the kitchen. \n\n\n\nEither way… if your cabinets look sad\, your profits do too. \n\n\n\nThe good news? You don’t have to blow your budget every time you renovate a kitchen or bathroom. Most investors assume they need to rip out the cabinets and start fresh — and that’s exactly how rehab costs spiral out of control. \n\n\n\nThis Lunch & Learn will show you smarter\, more budget-friendly ways to refresh your properties and maximize ROI. Whether you’re flipping for profit or updating a rental to get it ready for the next family\, this strategy is a game-changer. \n\n\n\n🛠 What You’ll Learn:\n\n\n\n✅ How to give dated kitchens a modern\, turnkey look in days✅ A strategy that saves $2\,000–$5\,000+ per project — no joke✅ The system savvy investors use to stretch rehab budgets✅ Live plant walkthrough: See exactly how it works✅ Insider access to discounted investor pricing \n\n\n\n⏰ Punctuality matters. Please arrive early.\n\n\n\nLunch & networking begin at 11:30 AM\, and the presentation will start promptly at 12:00 PM.\n\n\n\n Qwikkit is generously providing lunch at 11:30 AM sharp.The presentation starts right at 12:00 PM — no waiting\, no stalling. If you want to eat\, network\, and grab your seat… get there early. \n\n\n\n🎯 Who Should Attend:\n\n\n\n✔️ House flippers looking to boost resale value✔️ BRRRR and rental investors stretching CapEx✔️ DIY renovators and project managers✔️ Realtors and wholesalers seeking value-add solutions✔️ Contractors and vendor partners \n\n\n\n📍 Location: – 7350 Langfield Rd Houston\, TX 77092 Qwikkit Facility  \n\n\n\n🆓 There is no cost to attend this event\, but RSVP is required so we can plan for lunch and seating. (Seating is limited at 25 attendees)👇 Secure Your Spot Now 👇
URL:https://greaterhoustonreia.net/event/lunch-learn-3/
LOCATION:Qwikkit<br>\, 7350 Langfield Rd\, Houston\, Texas\, 77092
END:VEVENT
END:VCALENDAR