BEGIN:VCALENDAR
VERSION:2.0
PRODID:-//Greater Houston REIA - ECPv6.15.20//NONSGML v1.0//EN
CALSCALE:GREGORIAN
METHOD:PUBLISH
X-WR-CALNAME:Greater Houston REIA
X-ORIGINAL-URL:https://greaterhoustonreia.net
X-WR-CALDESC:Events for Greater Houston REIA
REFRESH-INTERVAL;VALUE=DURATION:PT1H
X-Robots-Tag:noindex
X-PUBLISHED-TTL:PT1H
BEGIN:VTIMEZONE
TZID:America/Chicago
BEGIN:DAYLIGHT
TZOFFSETFROM:-0600
TZOFFSETTO:-0500
TZNAME:CDT
DTSTART:20250309T080000
END:DAYLIGHT
BEGIN:STANDARD
TZOFFSETFROM:-0500
TZOFFSETTO:-0600
TZNAME:CST
DTSTART:20251102T070000
END:STANDARD
BEGIN:DAYLIGHT
TZOFFSETFROM:-0600
TZOFFSETTO:-0500
TZNAME:CDT
DTSTART:20260308T080000
END:DAYLIGHT
BEGIN:STANDARD
TZOFFSETFROM:-0500
TZOFFSETTO:-0600
TZNAME:CST
DTSTART:20261101T070000
END:STANDARD
BEGIN:DAYLIGHT
TZOFFSETFROM:-0600
TZOFFSETTO:-0500
TZNAME:CDT
DTSTART:20270314T080000
END:DAYLIGHT
BEGIN:STANDARD
TZOFFSETFROM:-0500
TZOFFSETTO:-0600
TZNAME:CST
DTSTART:20271107T070000
END:STANDARD
END:VTIMEZONE
BEGIN:VEVENT
DTSTART;TZID=America/Chicago:20260214T090000
DTEND;TZID=America/Chicago:20260214T120000
DTSTAMP:20260424T184533
CREATED:20251128T201632Z
LAST-MODIFIED:20260212T155207Z
UID:10000628-1771059600-1771070400@greaterhoustonreia.net
SUMMARY:Greater Houston REIA February 2026 Monthly Main Meeting
DESCRIPTION:Location: 6500 Rookin St Houston\, TX 77074\n\n\n\nGreater Houston REIA Monthly Main Meeting\n\n\n\nPanel Discussion: How to Build a Real Estate Business From Scratch — and Make $1 Million in 24 Months\n\n\n\nGreater Houston REIA’s Monthly Main Meeting is designed to help real estate investors get clarity\, perspective\, and forward momentum — no matter where they are in their journey. \n\n\n\nEach month\, we bring together investors at different stages to learn\, connect\, and engage in conversations that focus on real decisions\, real challenges\, and real progress in today’s market. These meetings are not sales pitches and not theory-heavy presentations. They’re built around practical insight\, shared experience\, and community. \n\n\n\nWhether you’re just getting started\, actively working deals\, or looking to build more intentionally\, our main meetings are designed to help you: \n\n\n\n\ncut through noise and distraction\n\n\n\nfocus on what actually moves the needle\n\n\n\nlearn from investors who are actively doing business\n\n\n\nand build relationships that support long-term success\n\n\n\n\nGuests are welcome to attend their first main meeting as our guest\, and members gain ongoing access to education\, resources\, and a strong local investor community. \n\n\n\n9am-9:30am | Breakfast Tacos & NetworkingTime to connect\, meet other investors\, and continue conversations before we get started. \n\n\n\n9:30am | Main Meeting BeginsThis month’s main meeting is a raw\, practical panel conversation about building a real estate business from ZERO in today’s market. \n\n\n\nHere’s the challenge we’re putting on the table: \n\n\n\n“If you had to build from scratch and make a  million dollars in 24 months\, what would you do — step by step?” \n\n\n\nThis will be a raw\, authentic\, and practical conversation where we will walk through how real investors think at each stage — from getting started\, to gaining traction\, to deciding what actually deserves their focus as the business grows. \n\n\n\nYou’ll hear how they prioritize early moves\, how they find and fund deals\, how and when they pivot\, how their definition of a “good deal” changes over time\, and much more! \n\n\n\nMost importantly\, you’ll hear how they decide what to do next when the path isn’t obvious — and how they cut through noise to keep moving forward. \n\n\n\n  \n\n\n\n\n\n\n\n\n\n 
URL:https://greaterhoustonreia.net/event/greater-houston-reia-monthly-main-meeting-4/
LOCATION:Ripley House 6500 Rookin St Houston\, TX 77074\, 6500 Rookin St\, Houston\, 77084\, United States
ATTACH;FMTTYPE=image/png:https://greaterhoustonreia.net/wp-content/uploads/2022/03/main-Meeting-MEETUP.png
END:VEVENT
END:VCALENDAR